BEGIN:VCALENDAR
VERSION:2.0
PRODID:icalendar-ruby
CALSCALE:GREGORIAN
METHOD:PUBLISH
BEGIN:VEVENT
DTSTAMP:20260421T122452Z
UID:272-1578650@westvanbaptist.com
DTSTART:20260426T184500Z
DTEND:20260426T200000Z
CLASS:PUBLIC
CREATED:20260420T125441
DESCRIPTION:Title: To pray in response to the offering given - King Solomon
  (1 Kings 8:27-30\; 9:3)\n主題：因著獻上的禮物而禱告 - 所羅
 門 (王上8:27-30\; 9:3)\n\n\n
LAST-MODIFIED:20260420T125441
LOCATION:Fireside Room
SUMMARY:Sunday Worship in Chinese 中文崇拜
URL;VALUE=URI:https://www.westvanbaptist.com/events/sunday-worship-in-chine
 se--272/2026-04-26
ATTACH;FILENAME=April 26_T.jpg;FMTTYPE=image/jpeg:https://dq5pwpg1q8ru0.clo
 udfront.net/2026/04/20/19/54/41/49f74c2e-0509-41c7-89db-346d83e652d2/April
 %2026_T.jpg
END:VEVENT
END:VCALENDAR
